BEGIN:VCALENDAR
VERSION:2.0
PRODID:-//Völkerrechtsblog - ECPv4.5.13//NONSGML v1.0//EN
CALSCALE:GREGORIAN
METHOD:PUBLISH
X-WR-CALNAME:Völkerrechtsblog
X-ORIGINAL-URL:http://voelkerrechtsblog.org
X-WR-CALDESC:Events for Völkerrechtsblog
BEGIN:VEVENT
DTSTART;VALUE=DATE:20170920
DTEND;VALUE=DATE:20170921
DTSTAMP:20180507T191026
CREATED:20170717T092035Z
LAST-MODIFIED:20170717T092106Z
UID:7203-1505865600-1506038399@voelkerrechtsblog.org
SUMMARY:Workshop im Rahmen des Projekts "International Public Authority"
DESCRIPTION:Mit Beiträgen von: \nJochen von Bernstorff\nArmin von Bogdandy\nPhilipp Dann\nFranz Ebert\nMatthias Goldmann\nXimena Soley\nJens Steffen\nSilvia Steininger\nIngo Venzke\nLeonie Vierck\nPedro Villarreal\nMichal Zürn\n\nEine Anmeldung ist erforderlich:  steininger@mpil.de \nVorläufiges Programm (Stand Juni 2017).  \n\nVeranstalter: \nMax-Planck-Institut für ausländisches öffentliches Recht und Völkerrecht und Exzellenzcluster “Die Herausbildung normativer Ordnungen” \nWeitere Informationen folgen.  \n\n
URL:http://voelkerrechtsblog.org/event/workshop-im-rahmen-des-projekts-international-public-authority/
END:VEVENT
END:VCALENDAR