BEGIN:VCALENDAR
VERSION:2.0
PRODID:-//Völkerrechtsblog - ECPv4.5.13//NONSGML v1.0//EN
CALSCALE:GREGORIAN
METHOD:PUBLISH
X-WR-CALNAME:Völkerrechtsblog
X-ORIGINAL-URL:http://voelkerrechtsblog.org
X-WR-CALDESC:Events for Völkerrechtsblog
BEGIN:VEVENT
DTSTART;TZID=Europe/Berlin:20170818T161500
DTEND;TZID=Europe/Berlin:20170818T180000
DTSTAMP:20180507T190051
CREATED:20170722T082710Z
LAST-MODIFIED:20170725T071653Z
UID:7236-1503072900-1503079200@voelkerrechtsblog.org
SUMMARY:Walther Schücking Lecture - Beyond War and Diplomacy: A Giant Step for Mankind
DESCRIPTION:\n\n\n\nBeyond War and Diplomacy: A Giant Step for Mankind \nUm das Vermächtnis seines früheren Direktors zu würdigen\, lädt das Walther-Schücking-Institut künftig regelmäßig renommierte Völkerrechtler*innen zu einem Vortrag im Geiste Walther Schückings ein\, der als Wissenschaftler\, Politiker und Richter für den Gedanken von Frieden durch Recht und internationale Zusammenarbeit eintrat. \nDen ersten Vortrag wird Professor Philip Allott halten\, der bekannt ist für seine bahnbrechende Kritik am momentanen Völkerrecht sowie seine utopisch inspirierten Neuansätze. In seiner jüngsten Monographie\, Eutopia (Edward Elgar\, 2016)\, zeichnet er ein düsteres Bild der inter- nationalen „Nicht-Gemeinschaft“ und ihrer „games of diplomacy and war\, which may end with millions dead and whole countries ruined“. In der Walther Schücking Lecture wird Professor Allott diese Themen aufgreifen und aufzeigen\, wie sich Völkerrecht jenseits von „war and diplomacy“ denken lässt. \nProf. em. Philip Allott\nM.A.\, LL.D.\, F.B.A.\, University of Cambridge \n\n\n\n\n
URL:http://voelkerrechtsblog.org/event/walter-schucking-lecture-beyond-war-and-diplomacy-a-giant-step-for-mankind/
LOCATION:Olshausenstraße 40 \, Kiel\, 24118
END:VEVENT
END:VCALENDAR