BEGIN:VCALENDAR
VERSION:2.0
PRODID:-//Völkerrechtsblog - ECPv4.5.13//NONSGML v1.0//EN
CALSCALE:GREGORIAN
METHOD:PUBLISH
X-WR-CALNAME:Völkerrechtsblog
X-ORIGINAL-URL:http://voelkerrechtsblog.org
X-WR-CALDESC:Events for Völkerrechtsblog
BEGIN:VEVENT
DTSTART;TZID=Europe/Berlin:20170712T160000
DTEND;TZID=Europe/Berlin:20170712T180000
DTSTAMP:20180507T191146
CREATED:20170710T080846Z
LAST-MODIFIED:20170816T003915Z
UID:7157-1499875200-1499882400@voelkerrechtsblog.org
SUMMARY:Vortrag und Diskussion: Legal Dissonances - Critical Legal Theory in Argentina (anmeldepflichtig)
DESCRIPTION:\n\n\nDer Arbeitsbereich Politik und Recht des Otto-Suhr-Instituts für Politikwissen- schaft\, Freie Universität Berlin\, und das ERC-Forschungsprojekt “transnational force of law” am Zentrum für Europäische Rechtspolitik der Universität Bremen laden herzlich ein zu einem Vortrag und anschließender Diskussion mit der Soziologin Oriana Seccia (Universidad de Buenos Aires IIGG/CONICET). \n\n\n\nDie Veranstaltung findet in englischer Sprache statt. \nUm Anmeldung unter tfl@uni-bremen.de zwecks Versendung von Materialien wird gebeten. \nVeranstaltungsort:\nFreie Universität Berlin\, Garystraße 55 – Hörsaal B \n\n\n\n\n\n\n
URL:http://voelkerrechtsblog.org/event/vortrag-und-diskussion-legal-dissonances-critical-legal-theory-in-argentina-um-anmeldung-wird-gebeten/
LOCATION:Garystraße 55\, Berlin\, Berlin 
END:VEVENT
END:VCALENDAR