BEGIN:VCALENDAR
VERSION:2.0
PRODID:-//Völkerrechtsblog - ECPv4.5.13//NONSGML v1.0//EN
CALSCALE:GREGORIAN
METHOD:PUBLISH
X-WR-CALNAME:Völkerrechtsblog
X-ORIGINAL-URL:http://voelkerrechtsblog.org
X-WR-CALDESC:Events for Völkerrechtsblog
BEGIN:VEVENT
DTSTART;TZID=Europe/Berlin:20170921T080000
DTEND;TZID=Europe/Berlin:20170922T170000
DTSTAMP:20180507T190340
CREATED:20170916T195116Z
LAST-MODIFIED:20170916T195116Z
UID:7417-1505980800-1506099600@voelkerrechtsblog.org
SUMMARY:The Metamorphosis of the European Economic Constitution
DESCRIPTION:”The Metamorphosis of the European Economic Constitution”\, Weicker Building\, University of Luxembourg\, Room B001\, 21-22 September 2017 (registration required)\n\nWith this Conference\, the Organizers aim to gather together some of the most renowned experts in European Public and Economic Law and to discuss\, over two days\, about the present challenges imposed to the actual structure of the EU economic governance as well as the possible future developments.\n \nThe Conference will be the occasion to develop a forum for reflection about the shaping and the transformation of a concept\, the one of the European economic constitution\, which has\, over the years\, strongly influenced the definition of the European economic and monetary policy\, being praised with success as well as object of strong critiques.\n \nParticipation is free but registration at izabela.fero@uni.lu is mandatory.\n\nFurther information here.\n
URL:http://voelkerrechtsblog.org/event/the-metamorphosis-of-the-european-economic-constitution/
LOCATION:Luxembourg
END:VEVENT
END:VCALENDAR