BEGIN:VCALENDAR
VERSION:2.0
PRODID:-//Völkerrechtsblog - ECPv4.5.13//NONSGML v1.0//EN
CALSCALE:GREGORIAN
METHOD:PUBLISH
X-WR-CALNAME:Völkerrechtsblog
X-ORIGINAL-URL:http://voelkerrechtsblog.org
X-WR-CALDESC:Events for Völkerrechtsblog
BEGIN:VEVENT
DTSTART;TZID=Europe/Berlin:20170517T130000
DTEND;TZID=Europe/Berlin:20170517T140000
DTSTAMP:20180507T190626
CREATED:20170516T052244Z
LAST-MODIFIED:20170516T052244Z
UID:6959-1495026000-1495029600@voelkerrechtsblog.org
SUMMARY:Niederlage gegen Russland?
DESCRIPTION:Niederlage gegen Russland? Die Entscheidung des IGH vom 19. April 2017 über einstweilige Maßnahmen gegen die Russische Föderation\, Prof. Dr. von Arnauld\, Christian-Albrechts-Universität zu Kiel\, 17. Mai 2017\, 13-14 Uhr \n  \nOrt: Westring 400\, R. 03.70 \nWeitere Informationen hier. \n
URL:http://voelkerrechtsblog.org/event/niederlage-gegen-russland/
END:VEVENT
END:VCALENDAR