BEGIN:VCALENDAR
VERSION:2.0
PRODID:-//Völkerrechtsblog - ECPv4.5.13//NONSGML v1.0//EN
CALSCALE:GREGORIAN
METHOD:PUBLISH
X-WR-CALNAME:Völkerrechtsblog
X-ORIGINAL-URL:http://voelkerrechtsblog.org
X-WR-CALDESC:Events for Völkerrechtsblog
BEGIN:VEVENT
DTSTART;TZID=Europe/Berlin:20170607T173000
DTEND;TZID=Europe/Berlin:20170607T193000
DTSTAMP:20180507T190903
CREATED:20170516T054943Z
LAST-MODIFIED:20170516T055253Z
UID:6980-1496856600-1496863800@voelkerrechtsblog.org
SUMMARY:Nachhaltige Ozeane
DESCRIPTION:Nachhaltige Ozeane\, Schwedische Botschaft\, Berlin\, 7. Juni 2017\, 17.30 Uhr (Anmeldung erbeten) \n  \nVom 5. – 9. Juni 2017 findet in New York unter der Leitung von Schweden und Fidschi die Ozean-Konferenz der Vereinten Nationen zur Umsetzung des Ziels für Nachhatige Entwicklung Nr. 14 (Leben unter dem Meer) statt. Bei der Konferenz handelt es sich um die erste Umsetzungskonferenz der Vereinten Nationen im Rahmen der Ziele für Nachhaltige Entwicklung. \nAnlässlich der Ozean-Konferenz laden die Deutsche Gesellschaft für die Vereinten Nationen e.V. (DGVN) und die schwedische Botschaft am 7. Juni 2017 zu einer gemeinsamen Veranstaltung zur nachhaltigen internationalen Meerespolitik ein. \nSie können sich bereits hier für diese Veranstaltung anmelden. \nWeitere Informationen folgen in Kürze. \nVeranstalter \nDGVN\, Schwedische Botschaft in Deutschland \nVeranstaltungsadresse \nGemeinschaftshaus der Nordischen Botschaften\nRauchstraße 1\n10787 Berlin \n
URL:http://voelkerrechtsblog.org/event/nachhaltige-ozeane/
END:VEVENT
END:VCALENDAR