BEGIN:VCALENDAR
VERSION:2.0
PRODID:-//Völkerrechtsblog - ECPv4.5.13//NONSGML v1.0//EN
CALSCALE:GREGORIAN
METHOD:PUBLISH
X-WR-CALNAME:Völkerrechtsblog
X-ORIGINAL-URL:http://voelkerrechtsblog.org
X-WR-CALDESC:Events for Völkerrechtsblog
BEGIN:VEVENT
DTSTART;TZID=Europe/Berlin:20171020T130000
DTEND;TZID=Europe/Berlin:20171020T150000
DTSTAMP:20180507T185910
CREATED:20170916T201109Z
LAST-MODIFIED:20170916T201109Z
UID:7436-1508504400-1508511600@voelkerrechtsblog.org
SUMMARY:Lecture: International adjucation\, rhetoric and storytelling
DESCRIPTION:Lecture: International adjucation\, rhetoric and storytelling\, Prof. Dr. Andrea Bianchi (Graduate Institute Geneva)\, Finley Library Lauterpacht Centre\, 20 October 2017\, 1.00pm-3.00pm\n \nLegal professionals involved in dispute settlement might greatly benefit from taking a look at literature and learning more about storytelling and rhetoric. These techniques can provide legal arguments with enhanced persuasive force. Unlike in literature\, storytelling in law is almost exclusively used as a way of structuring legal arguments\, of making them more convincing in order to persuade whatever audience the speaker may address. Likewise\, rhetorical techniques can help procure the audience’s adherence to the speaker’s argumentation. A judgment (like any other piece of legal writing) will always aim at persuading the audience to which it is addressed. For any court or tribunal\, it is a matter of authority\, credibility and prestige. The more persuasive the judgment is\, the more the authority of the judicial organ will be reinforced\, and its credibility and prestige enhanced.\n \nFurther reading:\nAndrea Bianchi\, ‘International Adjudication\, Rhetoric and Storytelling’\, Journal of International Dispute Settlement (forthcoming)\, https://doi.org/10.1093/jnlids/idx001\n \nAndrea Bianchi has been Full Professor of International Law at the Graduate Institute\, Geneva since 2002. He is the author and/or editor of: International Law Theories. An Inquiry Into Different Ways of Thinking (OUP\, 2016); Interpretation in International Law (co-edited with Dan Peat and Matt Windsor; OUP\, 2015); Transparency in International Law (co-edited with Anne Peters; CUP\, 2013); and of a trilogy of books on terrorism for Hart Publishing: Enforcing International Law Norms against Terrorism (2004); Counterterrorism: Democracy’s Challenge\, (co-edited with Alexis Keller) (2008); and International Law and Terrorism (co-authored with Yasmin Naqvi) (2011). He has also edited the following research collections: Theory and Philosophy of International Law (Edward Elgar 2017); and Non-State Actors in International Law (Ashgate\, 2009).\n \nMore Information here.\n
URL:http://voelkerrechtsblog.org/event/lecture-international-adjucation-rhetoric-and-storytelling/
LOCATION:5 Cranmer Road\, Cambridge\, CB3 9BL\, United Kingdom
END:VEVENT
END:VCALENDAR