BEGIN:VCALENDAR
VERSION:2.0
PRODID:-//Völkerrechtsblog - ECPv4.5.13//NONSGML v1.0//EN
CALSCALE:GREGORIAN
METHOD:PUBLISH
X-WR-CALNAME:Völkerrechtsblog
X-ORIGINAL-URL:http://voelkerrechtsblog.org
X-WR-CALDESC:Events for Völkerrechtsblog
BEGIN:VEVENT
DTSTART;TZID=Europe/Berlin:20170629T180000
DTEND;TZID=Europe/Berlin:20170629T200000
DTSTAMP:20180507T191649
CREATED:20170614T093708Z
LAST-MODIFIED:20170614T093708Z
UID:7089-1498759200-1498766400@voelkerrechtsblog.org
SUMMARY:Das Völkerrecht zwischen universellem Anspruch und Differenz
DESCRIPTION:Das Völkerrecht zwischen universellem Anspruch und Differenz\, Ringvorlesung\, Alexandra Kemmerer\, Christian-Albrechts-Universität zu Kiel\, 29. Juni 2017\, 18.15-20.00h\n\n29.06.2017 von 18:15 bis 20:00\nCAP2\, Hörsaal K \nWeitere Informationen hier.\n
URL:http://voelkerrechtsblog.org/event/das-volkerrecht-zwischen-universellem-anspruch-und-differenz/
LOCATION:Kiel\, Germany
END:VEVENT
END:VCALENDAR