BEGIN:VCALENDAR
VERSION:2.0
PRODID:-//Völkerrechtsblog - ECPv4.5.13//NONSGML v1.0//EN
CALSCALE:GREGORIAN
METHOD:PUBLISH
X-WR-CALNAME:Völkerrechtsblog
X-ORIGINAL-URL:http://voelkerrechtsblog.org
X-WR-CALDESC:Events for Völkerrechtsblog
BEGIN:VEVENT
DTSTART;TZID=Europe/Berlin:20170626T180000
DTEND;TZID=Europe/Berlin:20170626T200000
DTSTAMP:20180507T191238
CREATED:20170516T061358Z
LAST-MODIFIED:20170516T061555Z
UID:6994-1498500000-1498507200@voelkerrechtsblog.org
SUMMARY:Building a Better Financial System: Can a Human Rights Analysis Add Value to International Financial Regulation?
DESCRIPTION:Building a Better Financial System: Can a Human Rights Analysis Add Value to International Financial Regulation?\, Prof. Dr.  Daniel Bradlow (University of Pretoria)\, HU Berlin\, 26. Juni 2017\, 18.00h \n  \nThis lecture will demonstrate that incorporating a human rights analysis into the formulation and content of the international financial regulatory standards can improve financial regulation and can produce more robust and inclusive financial systems. It will also argue that such a human rights analysis raises challenging questions for both human rights law and for financial regulation. \nProf. Dr. Daniel Bradlow is the SARCHI  Professor of International Development Law and African Economic Relations\, Centre for Human Rights\, University of Pretoria and Professor Emeritus\, American University Washington College of Law. He is a former head of the International Economic Relations and Policy Department\, South African Reserve Bank and Chair\, Independent Review Mechanism\, African Development Bank. \nJuristische Fakultät\, Kommode\, Bebelplatz 2\, 10117 Berlin \nRaum E44/E46 \n
URL:http://voelkerrechtsblog.org/event/building-a-better-financial-system-can-a-human-rights-analysis-add-value-to-international-financial-regulation/
LOCATION:Bebelplatz 2\, 10117 Berlin\, 10117\, Germany
END:VEVENT
END:VCALENDAR