BEGIN:VCALENDAR
VERSION:2.0
PRODID:-//Völkerrechtsblog - ECPv4.5.13//NONSGML v1.0//EN
CALSCALE:GREGORIAN
METHOD:PUBLISH
X-WR-CALNAME:Völkerrechtsblog
X-ORIGINAL-URL:http://voelkerrechtsblog.org
X-WR-CALDESC:Events for Völkerrechtsblog
BEGIN:VEVENT
DTSTART;VALUE=DATE:20170608
DTEND;VALUE=DATE:20170608
DTSTAMP:20180507T190951
CREATED:20170516T055409Z
LAST-MODIFIED:20170516T055409Z
UID:6984-1496880000-1496966399@voelkerrechtsblog.org
SUMMARY:Autonomous Weapons Systems – Contemporary Developments at the UN
DESCRIPTION:Autonomous Weapons Systems – Contemporary Developments at the UN\, Prof. Robin Geiß (University of Glasgow)\, Universität Wien\, 8. Juni 2017 \n  \nWeitere Informationen hier. \n
URL:http://voelkerrechtsblog.org/event/autonomous-weapons-systems-contemporary-developments-at-the-un/
END:VEVENT
END:VCALENDAR