BEGIN:VCALENDAR
VERSION:2.0
PRODID:-//Völkerrechtsblog - ECPv4.5.13//NONSGML v1.0//EN
CALSCALE:GREGORIAN
METHOD:PUBLISH
X-WR-CALNAME:Völkerrechtsblog
X-ORIGINAL-URL:http://voelkerrechtsblog.org
X-WR-CALDESC:Events for Völkerrechtsblog
BEGIN:VEVENT
DTSTART;VALUE=DATE:20170918
DTEND;VALUE=DATE:20170924
DTSTAMP:20180507T191400
CREATED:20170717T091812Z
LAST-MODIFIED:20170717T091812Z
UID:7199-1505692800-1506297599@voelkerrechtsblog.org
SUMMARY:5. Deutsch-Tschechisches Rechtsfestival 2017
DESCRIPTION:Vom 18. bis zum 24. September 2017 werden die Universität Passau und die Karls-Universität Prag erneut gemeinsam eine Tagung zum rechtswissenschaftlichen Austausch für Studierende\, Referendare\, Konsulenten und Mitarbeiterinnen und Mitarbeiter juristischer Lehrstühle aus Tschechien\, Deutschland und Österreich veranstalten. Die erste Hälfte der Tagung wird in Anlehnung an die vergangenen Veranstaltungen in Passau stattfinden\, die zweite in Prag. Die Tagungssprache ist deutsch\, es sind also keine Tschechischkenntnisse erforderlich.  \nDas 5. Deutsch-Tschechische Rechtsfestival wird damit das erfolgreiche grenzüberschreitende Format der vergangenen Jahre (zuletzt 2009 und 2013) fortführen.  \nHier finden Sie nähere Informationen zum Rechtsfestival 2017. \nHier gelangen sie zur Anmeldung. Wir freuen uns auf Ihre Teilnahme. Sollten Sie noch Anfragen bezüglich der  Tagung haben\, freue ich mich über Ihre Nachricht an rechtsfestival@uni-passau.de\, Urs Kramer.\n \n
URL:http://voelkerrechtsblog.org/event/5-deutsch-tschechisches-rechtsfestival-2017/
END:VEVENT
END:VCALENDAR